BEGIN:VCALENDAR
VERSION:2.0
PRODID:gruene-hannmuenden.de
METHOD:PUBLISH
BEGIN:VTIMEZONE
TZID:Europe/Berlin
X-LIC-LOCATION:Europe/Berlin
BEGIN:DAYLIGHT
TZOFFSETFROM:+0100
TZOFFSETTO:+0200
TZNAME:CEST
DTSTART:19700329T020000
RRULE:FREQ=YEARLY;INTERVAL=1;BYDAY=-1SU;BYMONTH=3
END:DAYLIGHT
BEGIN:STANDARD
TZOFFSETFROM:+0200
TZOFFSETTO:+0100
TZNAME:CET
DTSTART:19701025T030000
RRULE:FREQ=YEARLY;INTERVAL=1;BYDAY=-1SU;BYMONTH=10
END:STANDARD
END:VTIMEZONE
BEGIN:VEVENT
UID:84c4dfe0e70556cfca10d47df3a16a95@gruene-hannmuenden.de
URL;VALUE=URI:https://gruene-hannmuenden.de/termine/gruenes-treffen-3/
LOCATION:
SUMMARY:Grünes Treffen
DESCRIPTION;ALTREP="data:text/html,%0A%3Cp%3ETreffen%20der%20Gr%C3%BCnen%
 20Hann.%20M%C3%BCnden%20f%C3%BCr%20Mitglieder%20und%20Interessierte.%20Wi
 r%20freuen%20uns%20auf%20Dich%20und%20Deine%20Themen.%3C%2Fp%3E%0A%0A%0A%
 0A%3Cp%3EBitte%20bei%20%3Ca%20href%3D%22https%3A%2F%2Fgruene-hannmuenden.
 de%2Fso-erreichen-sie-uns%2F%23%22%3Einfo%40gruene-hannmuenden.de%3C%2Fa%
 3E%20anmelden%21%3C%2Fp%3E%0A":Treffen der Grünen Hann. Münden für Mit
 glieder und Interessierte. Wir freuen uns auf Dich und Deine Themen.\n\nB
 itte bei info@gruene-hannmuenden.de anmelden!
CLASS:PUBLIC
DTSTART;TZID=Europe/Berlin:20260513
DTEND;TZID=Europe/Berlin:20260514
DTSTAMP:20260421T143952
END:VEVENT
END:VCALENDAR